BEGIN:VCALENDAR
VERSION:2.0
PRODID:-//Musikverein Heimattreue Baumgarten - ECPv6.15.20//NONSGML v1.0//EN
CALSCALE:GREGORIAN
METHOD:PUBLISH
X-ORIGINAL-URL:https://mvbaumgarten.at
X-WR-CALDESC:Veranstaltungen für Musikverein Heimattreue Baumgarten
REFRESH-INTERVAL;VALUE=DURATION:PT1H
X-Robots-Tag:noindex
X-PUBLISHED-TTL:PT1H
BEGIN:VTIMEZONE
TZID:Europe/Berlin
BEGIN:DAYLIGHT
TZOFFSETFROM:+0100
TZOFFSETTO:+0200
TZNAME:CEST
DTSTART:20240331T010000
END:DAYLIGHT
BEGIN:STANDARD
TZOFFSETFROM:+0200
TZOFFSETTO:+0100
TZNAME:CET
DTSTART:20241027T010000
END:STANDARD
BEGIN:DAYLIGHT
TZOFFSETFROM:+0100
TZOFFSETTO:+0200
TZNAME:CEST
DTSTART:20250330T010000
END:DAYLIGHT
BEGIN:STANDARD
TZOFFSETFROM:+0200
TZOFFSETTO:+0100
TZNAME:CET
DTSTART:20251026T010000
END:STANDARD
BEGIN:DAYLIGHT
TZOFFSETFROM:+0100
TZOFFSETTO:+0200
TZNAME:CEST
DTSTART:20260329T010000
END:DAYLIGHT
BEGIN:STANDARD
TZOFFSETFROM:+0200
TZOFFSETTO:+0100
TZNAME:CET
DTSTART:20261025T010000
END:STANDARD
END:VTIMEZONE
BEGIN:VEVENT
DTSTART;TZID=Europe/Berlin:20251213T080000
DTEND;TZID=Europe/Berlin:20251213T170000
DTSTAMP:20260422T133022
CREATED:20241020T144822Z
LAST-MODIFIED:20241020T145236Z
UID:6052-1765612800-1765645200@mvbaumgarten.at
SUMMARY:Weihnachtsfeier (MV intern)
DESCRIPTION:
URL:https://mvbaumgarten.at/event/weihnachtsfeier-mv-intern/
LOCATION:Cafe Murzi\, Hauptstraße 42\, Baumgarten\, 7021
CATEGORIES:MV Internes
END:VEVENT
END:VCALENDAR