BEGIN:VCALENDAR
VERSION:2.0
PRODID:-//Musikverein Heimattreue Baumgarten - ECPv6.15.20//NONSGML v1.0//EN
CALSCALE:GREGORIAN
METHOD:PUBLISH
X-ORIGINAL-URL:https://mvbaumgarten.at
X-WR-CALDESC:Veranstaltungen für Musikverein Heimattreue Baumgarten
REFRESH-INTERVAL;VALUE=DURATION:PT1H
X-Robots-Tag:noindex
X-PUBLISHED-TTL:PT1H
BEGIN:VTIMEZONE
TZID:Europe/Berlin
BEGIN:DAYLIGHT
TZOFFSETFROM:+0100
TZOFFSETTO:+0200
TZNAME:CEST
DTSTART:20250330T010000
END:DAYLIGHT
BEGIN:STANDARD
TZOFFSETFROM:+0200
TZOFFSETTO:+0100
TZNAME:CET
DTSTART:20251026T010000
END:STANDARD
BEGIN:DAYLIGHT
TZOFFSETFROM:+0100
TZOFFSETTO:+0200
TZNAME:CEST
DTSTART:20260329T010000
END:DAYLIGHT
BEGIN:STANDARD
TZOFFSETFROM:+0200
TZOFFSETTO:+0100
TZNAME:CET
DTSTART:20261025T010000
END:STANDARD
BEGIN:DAYLIGHT
TZOFFSETFROM:+0100
TZOFFSETTO:+0200
TZNAME:CEST
DTSTART:20270328T010000
END:DAYLIGHT
BEGIN:STANDARD
TZOFFSETFROM:+0200
TZOFFSETTO:+0100
TZNAME:CET
DTSTART:20271031T010000
END:STANDARD
END:VTIMEZONE
BEGIN:VEVENT
DTSTART;TZID=Europe/Berlin:20260425T180000
DTEND;TZID=Europe/Berlin:20260425T200000
DTSTAMP:20260422T060857
CREATED:20250905T114810Z
LAST-MODIFIED:20250905T114810Z
UID:6172-1777140000-1777147200@mvbaumgarten.at
SUMMARY:Frühjahrskonzert
DESCRIPTION:
URL:https://mvbaumgarten.at/event/fruehjahrskonzert-3/
LOCATION:Musikerheim Baumgarten\, Klostergasse 21\, Baumgarten\, 7021
CATEGORIES:Konzert
END:VEVENT
END:VCALENDAR