BEGIN:VCALENDAR
VERSION:2.0
PRODID:-//Musikverein Heimattreue Baumgarten - ECPv6.15.20//NONSGML v1.0//EN
CALSCALE:GREGORIAN
METHOD:PUBLISH
X-WR-CALNAME:Musikverein Heimattreue Baumgarten
X-ORIGINAL-URL:https://mvbaumgarten.at
X-WR-CALDESC:Veranstaltungen für Musikverein Heimattreue Baumgarten
REFRESH-INTERVAL;VALUE=DURATION:PT1H
X-Robots-Tag:noindex
X-PUBLISHED-TTL:PT1H
BEGIN:VTIMEZONE
TZID:Europe/Berlin
BEGIN:DAYLIGHT
TZOFFSETFROM:+0100
TZOFFSETTO:+0200
TZNAME:CEST
DTSTART:20240331T010000
END:DAYLIGHT
BEGIN:STANDARD
TZOFFSETFROM:+0200
TZOFFSETTO:+0100
TZNAME:CET
DTSTART:20241027T010000
END:STANDARD
BEGIN:DAYLIGHT
TZOFFSETFROM:+0100
TZOFFSETTO:+0200
TZNAME:CEST
DTSTART:20250330T010000
END:DAYLIGHT
BEGIN:STANDARD
TZOFFSETFROM:+0200
TZOFFSETTO:+0100
TZNAME:CET
DTSTART:20251026T010000
END:STANDARD
BEGIN:DAYLIGHT
TZOFFSETFROM:+0100
TZOFFSETTO:+0200
TZNAME:CEST
DTSTART:20260329T010000
END:DAYLIGHT
BEGIN:STANDARD
TZOFFSETFROM:+0200
TZOFFSETTO:+0100
TZNAME:CET
DTSTART:20261025T010000
END:STANDARD
END:VTIMEZONE
BEGIN:VEVENT
DTSTART;TZID=Europe/Berlin:20250913T110000
DTEND;TZID=Europe/Berlin:20250913T130000
DTSTAMP:20260422T171601
CREATED:20250314T140411Z
LAST-MODIFIED:20250314T140411Z
UID:6102-1757761200-1757768400@mvbaumgarten.at
SUMMARY:Klosterkirtag\, Frühschoppen
DESCRIPTION:
URL:https://mvbaumgarten.at/event/klosterkirtag-fruehschoppen-2/
LOCATION:Altes Bad\, Baumgarten
CATEGORIES:Frühschoppen
END:VEVENT
BEGIN:VEVENT
DTSTART;TZID=Europe/Berlin:20250920T110000
DTEND;TZID=Europe/Berlin:20250920T130000
DTSTAMP:20260422T171601
CREATED:20250314T140450Z
LAST-MODIFIED:20250905T115519Z
UID:6104-1758366000-1758373200@mvbaumgarten.at
SUMMARY:Genußwandertag
DESCRIPTION:
URL:https://mvbaumgarten.at/event/genusswandertag-uhrzeit-folgt/
LOCATION:Altes Bad\, Baumgarten
END:VEVENT
END:VCALENDAR