BEGIN:VCALENDAR
VERSION:2.0
PRODID:-//Musikverein Heimattreue Baumgarten - ECPv6.15.20//NONSGML v1.0//EN
CALSCALE:GREGORIAN
METHOD:PUBLISH
X-WR-CALNAME:Musikverein Heimattreue Baumgarten
X-ORIGINAL-URL:https://mvbaumgarten.at
X-WR-CALDESC:Veranstaltungen für Musikverein Heimattreue Baumgarten
REFRESH-INTERVAL;VALUE=DURATION:PT1H
X-Robots-Tag:noindex
X-PUBLISHED-TTL:PT1H
BEGIN:VTIMEZONE
TZID:Europe/Berlin
BEGIN:DAYLIGHT
TZOFFSETFROM:+0100
TZOFFSETTO:+0200
TZNAME:CEST
DTSTART:20250330T010000
END:DAYLIGHT
BEGIN:STANDARD
TZOFFSETFROM:+0200
TZOFFSETTO:+0100
TZNAME:CET
DTSTART:20251026T010000
END:STANDARD
BEGIN:DAYLIGHT
TZOFFSETFROM:+0100
TZOFFSETTO:+0200
TZNAME:CEST
DTSTART:20260329T010000
END:DAYLIGHT
BEGIN:STANDARD
TZOFFSETFROM:+0200
TZOFFSETTO:+0100
TZNAME:CET
DTSTART:20261025T010000
END:STANDARD
BEGIN:DAYLIGHT
TZOFFSETFROM:+0100
TZOFFSETTO:+0200
TZNAME:CEST
DTSTART:20270328T010000
END:DAYLIGHT
BEGIN:STANDARD
TZOFFSETFROM:+0200
TZOFFSETTO:+0100
TZNAME:CET
DTSTART:20271031T010000
END:STANDARD
END:VTIMEZONE
BEGIN:VEVENT
DTSTART;TZID=Europe/Berlin:20260606T170000
DTEND;TZID=Europe/Berlin:20260606T190000
DTSTAMP:20260422T080200
CREATED:20251114T164316Z
LAST-MODIFIED:20251114T164316Z
UID:6215-1780765200-1780772400@mvbaumgarten.at
SUMMARY:Dämmerschoppen Musikantenstammtisch
DESCRIPTION:
URL:https://mvbaumgarten.at/event/daemmerschoppen-musikantenstammtisch/
LOCATION:Gasthaus Schwendtenwein\, Walbersdorf\, Walbersdorf bei Mattersburg
CATEGORIES:Dämmerschoppen
END:VEVENT
BEGIN:VEVENT
DTSTART;TZID=Europe/Berlin:20260613T000000
DTEND;TZID=Europe/Berlin:20260613T235959
DTSTAMP:20260422T080200
CREATED:20250905T114949Z
LAST-MODIFIED:20250905T114949Z
UID:6176-1781308800-1781395199@mvbaumgarten.at
SUMMARY:Hochzeit
DESCRIPTION:
URL:https://mvbaumgarten.at/event/hochzeit/
LOCATION:Baumgarten
END:VEVENT
BEGIN:VEVENT
DTSTART;TZID=Europe/Berlin:20260613T100000
DTEND;TZID=Europe/Berlin:20260613T170000
DTSTAMP:20260422T080200
CREATED:20250828T074958Z
LAST-MODIFIED:20250828T074958Z
UID:6164-1781344800-1781370000@mvbaumgarten.at
SUMMARY:Hochzeitsspielerei
DESCRIPTION:
URL:https://mvbaumgarten.at/event/hochzeitsspielerei-2/
LOCATION:Baumgarten
END:VEVENT
END:VCALENDAR